BEGIN:VCALENDAR
VERSION:2.0
PRODID:-//Redland City Choir - ECPv6.8.2.1//NONSGML v1.0//EN
CALSCALE:GREGORIAN
METHOD:PUBLISH
X-ORIGINAL-URL:https://redlandcitychoir.org
X-WR-CALDESC:Events for Redland City Choir
REFRESH-INTERVAL;VALUE=DURATION:PT1H
X-Robots-Tag:noindex
X-PUBLISHED-TTL:PT1H
BEGIN:VTIMEZONE
TZID:Australia/Melbourne
BEGIN:STANDARD
TZOFFSETFROM:+1100
TZOFFSETTO:+1000
TZNAME:AEST
DTSTART:20260404T160000
END:STANDARD
BEGIN:DAYLIGHT
TZOFFSETFROM:+1000
TZOFFSETTO:+1100
TZNAME:AEDT
DTSTART:20261003T160000
END:DAYLIGHT
END:VTIMEZONE
BEGIN:VEVENT
DTSTART;TZID=Australia/Melbourne:20260606T140000
DTEND;TZID=Australia/Melbourne:20260606T160000
DTSTAMP:20260425T162423
CREATED:20260421T042059Z
LAST-MODIFIED:20260421T042059Z
UID:867-1780754400-1780761600@redlandcitychoir.org
SUMMARY:Beautiful Beethoven: a collaboration with Redlands Sinfonia
DESCRIPTION:The Redland City Choir will join with Redland Sinfonia to perform Meeresstille und Glückliche Fahrt as part of their Beautiful Beethoven Concert at Redlands Performing Arts Centre. \nFor tickets head to the RPAC website.
URL:https://redlandcitychoir.org/event/beautiful-beethoven-a-collaboration-with-redlands-sinfonia/
LOCATION:Redlands Performing Arts Centre\, 2-16 Middle Street\, Cleveland\, QLD\, 4163\, Australia
END:VEVENT
BEGIN:VEVENT
DTSTART;TZID=Australia/Melbourne:20260620T190000
DTEND;TZID=Australia/Melbourne:20260620T190000
DTSTAMP:20260425T162423
CREATED:20260421T045050Z
LAST-MODIFIED:20260421T045050Z
UID:871-1781982000-1781982000@redlandcitychoir.org
SUMMARY:Do you hear the people sing?
DESCRIPTION:Redland City Choir in concert at Redlands Sporting Club\, Anson Road\, Wellington Point. \nJoin Redland City Choir for a night of song featuring Broadway hits and other popular music. \nTo purchase tickets: www.trybooking.com/DLCRI
URL:https://redlandcitychoir.org/event/do-you-hear-the-people-sing/
LOCATION:Redlands Sporting Club\, Anson Road\, Wellington Point\, QLD\, 4160\, Australia
END:VEVENT
END:VCALENDAR